Workbook

Sheet ابدأ هنا
A1: قالب حساب البوفيه وسلف الموظفين — أعدّه فريق تطبيق البوفيه
A3: كيف تستخدمه: سجّل كل طلب في ورقة «الطلبات»، وكل مبلغ يدفعه الموظف في ورقة «الرصيد». اكتب أسماء الموظفين في ورقة «الملخص» وستُحسب الأرقام تلقائياً.
A4: نصيحة: اكتب اسم الموظف بنفس الطريقة في كل الأوراق، فالحساب يعتمد على تطابق الاسم.
A6: تعبت من الحساب اليدوي؟ تطبيق البوفيه يسجّل الطلبات والرصيد لكل موظف تلقائياً — مجاناً وبالعربي.
A7: حمّل التطبيق من Google Play
A8: الموقع الرسمي: elbofeh.com

Sheet الطلبات
A1: التاريخ | B1: اسم الموظف | C1: الصنف | D1: الكمية | E1: سعر الوحدة | F1: الإجمالي | G1: ملاحظات
F2: =IF(D2="","",D2*E2)
F3: =IF(D3="","",D3*E3)
F4: =IF(D4="","",D4*E4)
F5: =IF(D5="","",D5*E5)
F6: =IF(D6="","",D6*E6)
F7: =IF(D7="","",D7*E7)
F8: =IF(D8="","",D8*E8)
F9: =IF(D9="","",D9*E9)
F10: =IF(D10="","",D10*E10)
F11: =IF(D11="","",D11*E11)
F12: =IF(D12="","",D12*E12)
F13: =IF(D13="","",D13*E13)
... F500: =IF(D500="","",D500*E500)

Sheet الرصيد
A1: التاريخ | B1: اسم الموظف | C1: المبلغ المدفوع | D1: ملاحظات

Sheet الملخص
A1: اسم الموظف | B1: إجمالي الطلبات | C1: إجمالي المدفوع | D1: الرصيد المتبقي (المدفوع − الطلبات)
B2: =IF(A2="","",SUMIF(الطلبات!B:B,A2,الطلبات!F:F)) | C2: =IF(A2="","",SUMIF(الرصيد!B:B,A2,الرصيد!C:C)) | D2: =IF(A2="","",C2-B2)
B3: =IF(A3="","",SUMIF(الطلبات!B:B,A3,الطلبات!F:F)) | C3: =IF(A3="","",SUMIF(الرصيد!B:B,A3,الرصيد!C:C)) | D3: =IF(A3="","",C3-B3)
B4: =IF(A4="","",SUMIF(الطلبات!B:B,A4,الطلبات!F:F)) | C4: =IF(A4="","",SUMIF(الرصيد!B:B,A4,الرصيد!C:C)) | D4: =IF(A4="","",C4-B4)
B5: =IF(A5="","",SUMIF(الطلبات!B:B,A5,الطلبات!F:F)) | C5: =IF(A5="","",SUMIF(الرصيد!B:B,A5,الرصيد!C:C)) | D5: =IF(A5="","",C5-B5)
B6: =IF(A6="","",SUMIF(الطلبات!B:B,A6,الطلبات!F:F)) | C6: =IF(A6="","",SUMIF(الرصيد!B:B,A6,الرصيد!C:C)) | D6: =IF(A6="","",C6-B6)
B7: =IF(A7="","",SUMIF(الطلبات!B:B,A7,الطلبات!F:F)) | C7: =IF(A7="","",SUMIF(الرصيد!B:B,A7,الرصيد!C:C)) | D7: =IF(A7="","",C7-B7)
B8: =IF(A8="","",SUMIF(الطلبات!B:B,A8,الطلبات!F:F)) | C8: =IF(A8="","",SUMIF(الرصيد!B:B,A8,الرصيد!C:C)) | D8: =IF(A8="","",C8-B8)
B9: =IF(A9="","",SUMIF(الطلبات!B:B,A9,الطلبات!F:F)) | C9: =IF(A9="","",SUMIF(الرصيد!B:B,A9,الرصيد!C:C)) | D9: =IF(A9="","",C9-B9)
B10: =IF(A10="","",SUMIF(الطلبات!B:B,A10,الطلبات!F:F)) | C10: =IF(A10="","",SUMIF(الرصيد!B:B,A10,الرصيد!C:C)) | D10: =IF(A10="","",C10-B10)
B11: =IF(A11="","",SUMIF(الطلبات!B:B,A11,الطلبات!F:F)) | C11: =IF(A11="","",SUMIF(الرصيد!B:B,A11,الرصيد!C:C)) | D11: =IF(A11="","",C11-B11)
B12: =IF(A12="","",SUMIF(الطلبات!B:B,A12,الطلبات!F:F)) | C12: =IF(A12="","",SUMIF(الرصيد!B:B,A12,الرصيد!C:C)) | D12: =IF(A12="","",C12-B12)
B13: =IF(A13="","",SUMIF(الطلبات!B:B,A13,الطلبات!F:F)) | C13: =IF(A13="","",SUMIF(الرصيد!B:B,A13,الرصيد!C:C)) | D13: =IF(A13="","",C13-B13)
... B60: =IF(A60="","",SUMIF(الطلبات!B:B,A60,الطلبات!F:F)) | C60: =IF(A60="","",SUMIF(الرصيد!B:B,A60,الرصيد!C:C)) | D60: =IF(A60="","",C60-B60)
